BEGIN:VCALENDAR
VERSION:2.0
PRODID:icalendar-ruby
CALSCALE:GREGORIAN
METHOD:PUBLISH
BEGIN:VEVENT
DTSTAMP:20260420T212117Z
UID:8-1425983@opendoorfellowship.church
DTSTART:20260816T163000Z
DTEND:20260816T173000Z
CLASS:PUBLIC
CREATED:20260420T141240
DESCRIPTION:Sunday Worship
LAST-MODIFIED:20260420T141240
LOCATION:215 Main Street Yoder\, Wy 82244
SUMMARY:Sunday Worship
URL;VALUE=URI:https://www.opendoorfellowship.church/events/sunday-worship/2
 026-08-16
END:VEVENT
END:VCALENDAR
