BEGIN:VCALENDAR
VERSION:2.0
PRODID:icalendar-ruby
CALSCALE:GREGORIAN
METHOD:PUBLISH
BEGIN:VEVENT
DTSTAMP:20260421T004703Z
UID:8-1426274@opendoorfellowship.church
DTSTART:20260830T163000Z
DTEND:20260830T173000Z
CLASS:PUBLIC
CREATED:20260420T164806
DESCRIPTION:Sunday Worship
LAST-MODIFIED:20260420T164806
LOCATION:215 Main Street Yoder\, Wy 82244
SUMMARY:Sunday Worship
URL;VALUE=URI:https://www.opendoorfellowship.church/events/sunday-worship/2
 026-08-30
END:VEVENT
END:VCALENDAR
