BEGIN:VCALENDAR
VERSION:2.0
PRODID:icalendar-ruby
CALSCALE:GREGORIAN
METHOD:PUBLISH
BEGIN:VEVENT
DTSTAMP:20260421T024331Z
UID:8-1426564@opendoorfellowship.church
DTSTART:20260906T163000Z
DTEND:20260906T173000Z
CLASS:PUBLIC
CREATED:20260420T192221
DESCRIPTION:Sunday Worship
LAST-MODIFIED:20260420T192221
LOCATION:215 Main Street Yoder\, Wy 82244
SUMMARY:Sunday Worship
URL;VALUE=URI:https://www.opendoorfellowship.church/events/sunday-worship/2
 026-09-06
END:VEVENT
END:VCALENDAR
