BEGIN:VCALENDAR
VERSION:2.0
PRODID:icalendar-ruby
CALSCALE:GREGORIAN
METHOD:PUBLISH
BEGIN:VEVENT
DTSTAMP:20260421T135346Z
UID:8-1426859@opendoorfellowship.church
DTSTART:20261018T163000Z
DTEND:20261018T173000Z
CLASS:PUBLIC
CREATED:20260421T062958
DESCRIPTION:Sunday Worship
LAST-MODIFIED:20260421T062958
LOCATION:215 Main Street Yoder\, Wy 82244
SUMMARY:Sunday Worship
URL;VALUE=URI:https://www.opendoorfellowship.church/events/sunday-worship/2
 026-10-18
END:VEVENT
END:VCALENDAR
