BEGIN:VCALENDAR
VERSION:2.0
PRODID:icalendar-ruby
CALSCALE:GREGORIAN
METHOD:PUBLISH
BEGIN:VEVENT
DTSTAMP:20260421T172725Z
UID:8-1427151@opendoorfellowship.church
DTSTART:20261101T173000Z
DTEND:20261101T183000Z
CLASS:PUBLIC
CREATED:20260421T090531
DESCRIPTION:Sunday Worship
LAST-MODIFIED:20260421T090531
LOCATION:215 Main Street Yoder\, Wy 82244
SUMMARY:Sunday Worship
URL;VALUE=URI:https://www.opendoorfellowship.church/events/sunday-worship/2
 026-11-01
END:VEVENT
END:VCALENDAR
